BEGIN:VCALENDAR
VERSION:2.0
PRODID:Events Booking
BEGIN:VEVENT
UID:69e61593d5be2
SUMMARY:Crvena Jabuka
DESCRIPTION:Nur wenige Bands aus dem ehemaligen Jugoslawien sind so tief im
  Herzen ihres Publikums geblieben. Crvena Jabuka gehört dazu. Sie kommen 
 in den Flinsch Events Club Frankfurt\, und wer mit ihrer Musik aufgewachse
 n ist\, weiß bereits\, was für ein Abend das wird.
LOCATION:Flinschstraße 2-4\, 60388 Frankfurt am Main\, Germany
DTSTART:20260502T193000Z
DTEND:20260503T040000Z
DTSTAMP:20260419T220923Z
ORGANIZER;CN=Flinsch Club Frankfurt:MAILTO:info@flinsch-club.de
GEO:50.133435;8.737785
X-APPLE-STRUCTURED-LOCATION;VALUE=URI;X-ADDRESS=Flinschstraße 2-4\, 60388 
 Frankfurt am Main\, Germany;X-APPLE-RADIUS=72;X-TITLE=Flinsch Events Club:
 50.133435;8.737785
END:VEVENT
END:VCALENDAR